BEGIN:VCALENDAR
VERSION:2.0
PRODID:-//CoDesign Collaborative - ECPv6.6.4.2//NONSGML v1.0//EN
CALSCALE:GREGORIAN
METHOD:PUBLISH
X-ORIGINAL-URL:https://codesigncollaborative.org
X-WR-CALDESC:Events for CoDesign Collaborative
REFRESH-INTERVAL;VALUE=DURATION:PT1H
X-Robots-Tag:noindex
X-PUBLISHED-TTL:PT1H
BEGIN:VTIMEZONE
TZID:America/New_York
BEGIN:DAYLIGHT
TZOFFSETFROM:-0500
TZOFFSETTO:-0400
TZNAME:EDT
DTSTART:20250309T070000
END:DAYLIGHT
BEGIN:STANDARD
TZOFFSETFROM:-0400
TZOFFSETTO:-0500
TZNAME:EST
DTSTART:20251102T060000
END:STANDARD
END:VTIMEZONE
BEGIN:VEVENT
DTSTART;TZID=America/New_York:20250529T123000
DTEND;TZID=America/New_York:20250529T130000
DTSTAMP:20260420T122812
CREATED:20250402T184342Z
LAST-MODIFIED:20250416T185436Z
UID:32538-1748521800-1748523600@codesigncollaborative.org
SUMMARY:The Current: CoDesign in Practice
DESCRIPTION:The Current: CoDesign in Practice\nJoin us for a virtual lightning talk with Parsons student Monisha Raju and Gamar Markarian about the broader challenges of co-design.\n			\n			\n				\n				\n				\n				\n				\n				\n				\n				\n				\n				\n				\n				\n					            \n	\n	 \n				\n				\n				\n				\n				\n				\n				\n					             \nTickets\n \n            \n				\n			 \n\n            \n				\n			\n			\n				\n				\n				\n				\n			\n				\n				\n				\n				\n				\n				\n				\n				\n				\n				\n				\n			\n				\n				\n				\n				\n				Join CoDesign Collaborative for The Current\, a virtual\, student-led lightning talk series highlighting vital topics in design\, on May 29\, 12:30-1 pm ET / 9:30-10 am PT to discuss Co-Design with Parsons Design student Monisha Raju and multidisciplinary designer\, strategist\, and storyteller\, Gamar Markarian. \n\n“Co-design brings together lived experience\, lived expertise and professional experience to learn from each other and make things better – by design.” – McKercher\, K. A. (2020)\, Beyond sticky notes \n\nIn the 21st century\, the boundaries of design as a discipline have expanded\, evolving from a siloed field into a collaborative and multidisciplinary practice. Design schools now prepare students not only to be makers but also to become co-creators\, facilitators\, and systems thinkers. Designers are equipped with adaptable ways of thinking that can be applied across diverse roles and sectors—from grassroots community work to corporate environments. \nThis evolution positions designers to collaborate meaningfully with communities\, empowering them to collectively author their futures. However\, co-design is not without its challenges. Its practice varies significantly depending on the organizational context\, requiring adaptability and sensitivity to different dynamics. \nThis talk will explore the broader disciplinary challenges of co-design\, drawing from the speaker’s experiences—from working closely with communities to navigating the transition into corporate spaces and addressing: \n\nThe real-world challenges of practicing co-design approaches.\nHow designers and community-centered practitioners can celebrate shared knowledge without being extractive.\nHow we\, as designers\, can bring our expertise\, skills\, and commitment to co-design into diverse organizational contexts\, particularly in corporate environments.\n\n  \nAbout Monisha Raju: \nMonisha is a graduate student in the Strategic Design and Management Program. She is a trained architect with experience working with multidisciplinary design practices in India. Her work is at the intersection of contextually sensitive design\, cultural history\, and community engagement. She has designed and worked on projects ranging from museum experiences to housing for elderly communities\, with a strong focus on sustainable materials and thoughtful design. She has also explored the work–live relationships of communities involved in traditional crafts in India\, aiming to understand and support the systems that sustain these practices. Outside of her academic and professional work\, Monisha is drawn to hands-on artistic practices. She is skilled in painting with different mediums\, enjoys visiting museums\, organizing and curating workshops. Lately\, she enjoys running through New York City’s neighborhoods\, drawing inspiration from its layered stories. \nAbout Gamar Markarian: \nGamar Markarian is a multidisciplinary designer\, strategist\, and visual storyteller with over 17 years of experience\, specializing in planetary-centered design\, systems thinking\, and community engagement. As a design strategist\, she believes creativity thrives through collective effort and has spent 8 years with Philadelphia Mural Arts\, facilitating community-driven collaborative projects. Gamar values inclusivity and collaboration\, weaving storytelling into her work to connect people\, ideas\, and places. She also teaches in the Strategic Design and Management (BBA) program at Parsons The New School for Design\, where she coordinates the Design Research 1: Methods course. Gamar herself is a graduate of the MS in Design and Urban Ecologies at Parsons. Outside of work\, she celebrates her heritage through cooking and finds joy in creating new friendships and meaningful connections. \n \n			\n			\n				\n				\n				\n				\n				\n				\n				\n				\n				\n				Thursday\, May 29\, 2025\n12:30 – 1 pm ET / 9:30 – 10 am PT\nVirtual Lightning Talk\n			\n				\n				\n				\n				\n				\n\nFree for Students\, Members & Partners(see your email for the promo code)!$5 General Admission. Registration is required. \n\n\n			\n				Register Now\n			\n				\n				\n				\n				\n				Design Impact Society\, Corporate & Academic Partners\, and Members: you should have received a promo code for free and discounted registration. Email membership@codesigncollaborative.org with questions. \n			\n				\n				\n				\n				\n				Speakers\n			\n				\n				\n				\n				\n				\n			\n				\n				\n				\n				\n				Monisha RajuGraduate Student\, Strategic Design & Management\, Parsons School of Design(she/her/hers) \n			\n				\n				\n				\n				\n				\n			\n				\n				\n				\n				\n				Gamar MarkarianMultidisciplinary Designer\, Strategist\, and Visual Storyteller(she/her/hers) \n			\n			\n				\n				\n				\n				\n			\n				\n				\n				\n				\n				\n				\n			\n				\n				\n				\n				\n			\n				\n				\n			\n				\n				\n				\n				\n				\n				\n				\n				\n				\n				\n				\n				\n				\n				\n				\n				\n				\n				\n			\n				\n				\n				\n				\n				Become a member to attend special events free of charge\, and get Unfold Magazine mailed twice a year.\nMembership starts at just $5/month.\n			\n				Join
URL:https://codesigncollaborative.org/event/current-codesign/
CATEGORIES:Partner,Member,Design Impact Society
ATTACH;FMTTYPE=image/jpeg:https://codesigncollaborative.org/wp-content/uploads/2025/04/ux-indonesia-unsplash_1200x675.jpg
END:VEVENT
END:VCALENDAR