BEGIN:VCALENDAR
VERSION:2.0
PRODID:-//CoDesign Collaborative - ECPv6.6.4.2//NONSGML v1.0//EN
CALSCALE:GREGORIAN
METHOD:PUBLISH
X-ORIGINAL-URL:https://codesigncollaborative.org
X-WR-CALDESC:Events for CoDesign Collaborative
REFRESH-INTERVAL;VALUE=DURATION:PT1H
X-Robots-Tag:noindex
X-PUBLISHED-TTL:PT1H
BEGIN:VTIMEZONE
TZID:America/New_York
BEGIN:DAYLIGHT
TZOFFSETFROM:-0500
TZOFFSETTO:-0400
TZNAME:EDT
DTSTART:20250309T070000
END:DAYLIGHT
BEGIN:STANDARD
TZOFFSETFROM:-0400
TZOFFSETTO:-0500
TZNAME:EST
DTSTART:20251102T060000
END:STANDARD
END:VTIMEZONE
BEGIN:VEVENT
DTSTART;TZID=America/New_York:20250521T123000
DTEND;TZID=America/New_York:20250521T130000
DTSTAMP:20260420T061625
CREATED:20250513T152613Z
LAST-MODIFIED:20250513T154513Z
UID:32681-1747830600-1747832400@codesigncollaborative.org
SUMMARY:CoDesign LIVE: AI Workflow with TJ Lippert and Jon Riehle
DESCRIPTION:CoDesign LIVE: AI Workflow with TJ Lippert and Jon Riehle\nJoin us for a virtual lightning talk on AI’s potential applications within the physical product development process.\n			\n			\n				\n				\n				\n				\n				\n				\n				\n				\n				\n				\n				\n				\n					            \n	\n	 \n				\n				\n				\n				\n				\n				\n				\n					             \nTickets\n \n            \n				\n			 \n\n            \n				\n			\n			\n				\n				\n				\n				\n			\n				\n				\n				\n				\n				\n				\n				\n				\n				\n				\n				\n			\n				\n				\n				\n				\n				Join CoDesign Collaborative and TJ Lippert and Jon Riehle from LOFT Design\, for a virtual lightning talk on May 21\, 2025\, from 12:30-1 pm ET / 9:30-10 am PT exploring AI Workflow. Advancements within AI image generation tools are lowering the barrier to entry for others who are not in typical creative roles. This talk will touch on AI’s potential applications within the physical product development process\, and how Business Leaders\, Stakeholders\, and Designers can cross-collaborate like never before. \nAbout TJ LippertTJ Lippert is a multi-disciplinary designer with nearly a decade of experience helping bring products and brands to life within the automotive accessory\, pet\, consumer electronics\, professional audio markets\, and much more. Currently\, TJ is a Senior Industrial Designer at Loft and has previously held product and brand development roles at NOCO\, Juggernaut Design\, and Mediphor Design. These experiences have allowed him to work closely alongside C-suite business and product development leadership\, and in recent years have provided him the opportunity to integrate AI tools into his creative process. TJ is passionate about the smallest behaviors that make up the interactions with products in our day-to-day experiences\, and strives to have his designs act as an extension of ourselves to improve our lives seamlessly. \nAbout Jon RiehleJon Riehle is a designer\, professor\, and team leader with over a decade of experience in industrial and UI/UX design. He’s worked with companies across consumer goods\, pro-audio\, medtech\, and digital products to create thoughtful\, user-centered solutions. Currently a Senior Designer at Loft Design\, Jon uses AI tools to explore ideas faster\, spark creativity\, and collaborate more effectively with clients. Before that\, he spent nearly five years at Procter & Gamble\, working closely with brand leaders and cross-functional teams at Braun and Gillette to launch innovative products that combined design thinking with emerging technologies. \n \n			\n			\n				\n				\n				\n				\n				\n				\n				\n				\n				\n				Wednesday\, May 21\, 2025\n12:30 – 1 pm ET\nVirtual Lightning Talk\n			\n				\n				\n				\n				\n				Free for Students\, Members & Partners(see your email for the promo code)!$5 General Admission. Registration is required. \n			\n				Register Now\n			\n				\n				\n				\n				\n				Speakers \n			\n				\n				\n				\n				\n				\n			\n				\n				\n				\n				\n				TJ Lippert Senior Industrial Designer\, LOFT Design \n			\n				\n				\n				\n				\n				\n			\n				\n				\n				\n				\n				Jon RiehleSenior Industrial Designer\, LOFT Design \n			\n			\n				\n				\n				\n				\n			\n				\n				\n				\n				\n				\n				\n			\n				\n				\n				\n				\n			\n				\n				\n			\n				\n				\n				\n				\n				\n				\n				\n				\n				\n				\n				\n				\n				\n				\n				\n				\n				\n				\n			\n				\n				\n				\n				\n				Become a member to attend special events free of charge\, and get Unfold Magazine mailed twice a year.\nMembership starts at just $5/month.\n			\n				Join
URL:https://codesigncollaborative.org/event/ai-workflow/
CATEGORIES:Partner,Member,Design Impact Society
ATTACH;FMTTYPE=image/jpeg:https://codesigncollaborative.org/wp-content/uploads/2025/05/AI_Workflow.jpeg
END:VEVENT
END:VCALENDAR