BEGIN:VCALENDAR
VERSION:2.0
PRODID:-//CoDesign Collaborative - ECPv6.6.4.2//NONSGML v1.0//EN
CALSCALE:GREGORIAN
METHOD:PUBLISH
X-ORIGINAL-URL:https://codesigncollaborative.org
X-WR-CALDESC:Events for CoDesign Collaborative
REFRESH-INTERVAL;VALUE=DURATION:PT1H
X-Robots-Tag:noindex
X-PUBLISHED-TTL:PT1H
BEGIN:VTIMEZONE
TZID:America/New_York
BEGIN:DAYLIGHT
TZOFFSETFROM:-0500
TZOFFSETTO:-0400
TZNAME:EDT
DTSTART:20250309T070000
END:DAYLIGHT
BEGIN:STANDARD
TZOFFSETFROM:-0400
TZOFFSETTO:-0500
TZNAME:EST
DTSTART:20251102T060000
END:STANDARD
END:VTIMEZONE
BEGIN:VEVENT
DTSTART;TZID=America/New_York:20250108T120000
DTEND;TZID=America/New_York:20250108T123000
DTSTAMP:20260423T115247
CREATED:20241121T044844Z
LAST-MODIFIED:20241121T045210Z
UID:32329-1736337600-1736339400@codesigncollaborative.org
SUMMARY:Designing Your Work for Happiness
DESCRIPTION:Designing Your Work for Happiness\nJoin us for a virtual lightning talk with Dr. Tracy Brower\, PhD\, MM\, MCRW\, and Author\, The Secrets to Happiness at Work and Bring Work to Life. \n			\n			\n				\n				\n				\n				\n				\n				\n				\n				\n				\n				\n				\n				\n					            \n	\n	 \n				\n				\n				\n				\n				\n				\n				\n					             \nTickets\n \n            \n				\n			 \n\n            \n				\n			\n			\n				\n				\n				\n				\n			\n				\n				\n				\n				\n				\n				\n				\n				\n				\n				\n				\n			\n				\n				\n				\n				\n				Join CoDesign Collaborative and Dr. Tracy Brower\, PhD\, MM\, MCRW\, and Author\, The Secrets to Happiness at Work and Bring Work to Life for a virtual lighting talk on January 8. Design is powerfully positive—and this is especially true when you design your own work for joy and fulfillment. Despite the stress of a VUCA (volatile\, uncertain\, complex and ambiguous) world\, it’s possible to create the conditions for happiness. Join us to learn what happiness (really) is and how increasingly tap into joy. We’ll talk about myths of happiness and how to create the very best for your work and your life. \nAbout Tracy: \nDr. Tracy Brower is a PhD sociologist studying happiness\, work-life fulfillment and the future of work. She is the author of The Secrets to Happiness at Work and Bring Work to Life. She is the vice president of workplace insights with Steelcase and a senior contributor to Forbes and Fast Company. Tracy’s Her TEDx talk has been viewed 8.1 million times and her work has been translated into 22 languages. She is an award-winning speaker with over 25 years of experience working with global clients to achieve business results. Tracy is on the advisory board for Kids Food Basket and for the Co-Design Collaborative. In addition\, she is a coach and advisor for the Center for Leadership at Hope College and an advisor to the Michigan State University Master of Industrial Mathematics Program. In addition\, she volunteers with the United Way and is a faculty member for CoreNet Global and for Hacking HR. Tracy’s work has been featured on CBS News\, TEDx\, The Wall Street Journal\, Work-Life Balance in the 21st Century (book)\, Globe and Mail (Canada)\, InsideHR (Australia)\, HR Director (UK)\, T3N (Germany)\, Morning Wave in Busan (South Korea)\, Real Estate Review Journal\, Fortune\, Inc. Magazine\, HBR (France)\, multiple podcasts and more. Tracy holds a PhD in Sociology\, a Master of Management in Organizational Culture\, and a Master of Corporate Real Estate with a workplace specialization. You can find her on LinkedIn\, X\, Instagram\, Goodreads\, Unsplash (photography) or at tracybrower.com. \n  \n \n			\n			\n				\n				\n				\n				\n				\n				\n				\n				\n				\n				Wednesday\, January 8\, 2025\n12:00 – 12:30 pm ET\nVirtual Lightning Talk\n			\n				\n				\n				\n				\n				Registration is required; free student tickets. \n			\n				Register Now\n			\n				\n				\n				\n				\n				Speaker \n			\n				\n				\n				\n				\n				\n			\n				\n				\n				\n				\n				Dr. Tracy BrowerAuthor\, The Secrets to Happiness at Work and Bring Work to LifeVice President of Workplace Insights\, Steelcase \n\n			\n			\n				\n				\n				\n				\n			\n				\n				\n				\n				\n				\n				\n			\n				\n				\n				\n				\n			\n				\n				\n			\n				\n				\n				\n				\n				\n				\n				\n				\n				\n				\n				\n				\n				\n				\n				\n				\n				\n				\n			\n				\n				\n				\n				\n				Become a member to attend special events free of charge\, and get Unfold Magazine mailed twice a year.\nMembership starts at just $5/month.\n			\n				Join
URL:https://codesigncollaborative.org/event/workplace-happiness/
CATEGORIES:Partner,Member,Design Impact Society
ATTACH;FMTTYPE=image/jpeg:https://codesigncollaborative.org/wp-content/uploads/2024/11/Happiness_At_Work.jpg
END:VEVENT
END:VCALENDAR