BEGIN:VCALENDAR
VERSION:2.0
PRODID:-//CoDesign Collaborative - ECPv6.6.4.2//NONSGML v1.0//EN
CALSCALE:GREGORIAN
METHOD:PUBLISH
X-WR-CALNAME:CoDesign Collaborative
X-ORIGINAL-URL:https://codesigncollaborative.org
X-WR-CALDESC:Events for CoDesign Collaborative
REFRESH-INTERVAL;VALUE=DURATION:PT1H
X-Robots-Tag:noindex
X-PUBLISHED-TTL:PT1H
BEGIN:VTIMEZONE
TZID:America/New_York
BEGIN:DAYLIGHT
TZOFFSETFROM:-0500
TZOFFSETTO:-0400
TZNAME:EDT
DTSTART:20240310T070000
END:DAYLIGHT
BEGIN:STANDARD
TZOFFSETFROM:-0400
TZOFFSETTO:-0500
TZNAME:EST
DTSTART:20241103T060000
END:STANDARD
TZID:America/Los_Angeles
BEGIN:DAYLIGHT
TZOFFSETFROM:-0800
TZOFFSETTO:-0700
TZNAME:PDT
DTSTART:20240310T100000
END:DAYLIGHT
BEGIN:STANDARD
TZOFFSETFROM:-0700
TZOFFSETTO:-0800
TZNAME:PST
DTSTART:20241103T090000
END:STANDARD
END:VTIMEZONE
BEGIN:VEVENT
DTSTART;TZID=America/New_York:20240603T173000
DTEND;TZID=America/New_York:20240603T183000
DTSTAMP:20260419T105831
CREATED:20240524T200837Z
LAST-MODIFIED:20240524T201221Z
UID:31079-1717435800-1717439400@codesigncollaborative.org
SUMMARY:Storytelling Through Movement Workshop
DESCRIPTION:Storytelling Through Movement Workshop\nJoin the CoDesign Collaborative community for a free family program on June 3 in Cambridge.\n			\n			\n				\n				\n				\n				\n				\n				\n				\n				\n				\n				\n				\n				\n					            \n	\n	 \n				\n				\n				\n				\n				\n				\n				\n					             \nTickets\n \n            \n				\n			\n				\n				\n				\n				\n				\n				\n				\n					             \nLocation\n \n            \n				\n			 \n\n            \n				\n			\n			\n				\n				\n				\n				\n			\n				\n				\n				\n				\n				\n				\n				\n				\n				\n				\n				\n			\n				\n				\n				\n				\n				Join us on June 3\, 5:30-6:30 pm at the Foundry in Cambridge with dancers from Abilities Dance Boston to guide you through gentle movement using your body as a tool for storytelling. The activity is designed for ages 6 and up; all are welcome\, including families\, young professionals\, and elders. This event will take place outdoors depending on the weather\, please wear flexible and comfortable clothing. Registration is required due to limited capacity.  \nBuilding and Event Information:  \n\nFirst floor is wheelchair accessible. The main entrance and the entrance from the yard have automatic doors. All doors in the building do not automatically open.\nAll bathrooms on the first floor are gender neutral. Two bathrooms are wheelchair accessible. Sinks in all first floor bathrooms are 34 inches tall with a 12 inch reach to the faucet.\nMask use will be encouraged for all visitors to the Foundry building\, and masks will be on hand for those who need one.\n\nThis program is FREE and open to the public\, including those with EBT\, WIC\, and ConnectorCare Cards through the Card to Culture program. This program is supported through public contributions to the CoDesign Collaborative Education Fund and Sappi: Ideas that Matter. Thank you to The Foundry for hosting this workshop. \n \n			\n			\n				\n				\n				\n				\n				\n				\n				\n				\n				\n				Monday\, June 3\n5:30 pm – 6:30 pm ET\nThe Foundry101 Rogers StreetCambridge\, MA 02142\nEvent will be on outside patio.\n\n			\n				\n				\n				\n				\n				Registration required. \n			\n				Register to Attend\n			\n			\n				\n				\n				\n				\n			\n				\n				\n			\n				\n				\n				\n				\n				\n				\n				\n				\n				\n				\n				\n				\n				\n			\n				\n				\n				\n				\n			\n				\n				\n			\n				\n				\n				\n				\n				\n				\n				\n				\n				\n				\n				\n				\n				\n				\n				\n				\n				\n				\n			\n				\n				\n				\n				\n				Become a member to attend special events free of charge\, and get Design Museum Magazine mailed twice a year.\nMembership starts at just $5/month.\n			\n				Join
URL:https://codesigncollaborative.org/event/storytelling-through-movement/
LOCATION:The Foundry\, 101 Rogers Street\, Cambridge\, MA\, 02142\, United States
CATEGORIES:Partner,Member,Design Impact Society
ATTACH;FMTTYPE=image/jpeg:https://codesigncollaborative.org/wp-content/uploads/2024/05/ADB_1200x675.jpg
END:VEVENT
BEGIN:VEVENT
DTSTART;TZID=America/Los_Angeles:20240606T114500
DTEND;TZID=America/Los_Angeles:20240606T130000
DTSTAMP:20260419T105831
CREATED:20240517T173547Z
LAST-MODIFIED:20240517T175054Z
UID:31069-1717674300-1717678800@codesigncollaborative.org
SUMMARY:Field Trip: Schoolhouse (PDX)
DESCRIPTION:Field Trip: Schoolhouse (PDX)\nJoin the CoDesign Collaborative community on June 6 for a Field Trip to the Schoolhouse Electric Factory. \n			\n			\n				\n				\n				\n				\n				\n				\n				\n				\n				\n				\n				\n				\n					            \n	\n	 \n				\n				\n				\n				\n				\n				\n				\n					             \nTickets\n \n            \n				\n			\n				\n				\n				\n				\n				\n				\n				\n					             \nLocation\n \n            \n				\n			 \n\n            \n				\n			\n			\n				\n				\n				\n				\n			\n				\n				\n				\n				\n				\n				\n				\n				\n				\n				\n				\n			\n				\n				\n				\n				\n				Join the CoDesign Collaborative community on Thursday\, June 6\, 11:45 am–1:00 pm PT for a Field Trip to the Schoolhouse Electric Factory. \nLocated in the industrial district of Northwest Portland\, Schoolhouse’s flagship store resides on the ground floor of their factory and headquarters. There\, they manufacture lighting and homewares the old fashioned way—as one team under one roof. \nInspired by the lush greenery found throughout the Pacific Northwest\, Schoolhouse’s 5\,000 square foot showroom is ever-changing and rooted in bringing the outside in. Part factory and storefront\, their flagship is truly the heart and soul of Schoolhouse. \nField Trips are a benefit of Membership and Organizational Partnership. Not-yet-Members are welcome to reserve tickets for $10/person. A select number of FREE student tickets are also available on a first-come\, first-served basis. \nThe building and tour are accessible. \n \n			\n			\n				\n				\n				\n				\n				\n				\n				\n				\n				\n				Thursday\, June 6\n11:45 am – 1:00 pm PT\nSchoolhouse 2181 NW Nicolai StreetPortland\, OR 97210\n			\n				\n				\n				\n				\n				Registration required. \n			\n				Register to Attend\n			\n			\n				\n				\n				\n				\n			\n				\n				\n			\n				\n				\n				\n				\n				\n				\n				\n				\n				\n				\n				\n				\n				\n			\n				\n				\n				\n				\n			\n				\n				\n			\n				\n				\n				\n				\n				\n				\n				\n				\n				\n				\n				\n				\n				\n				\n				\n				\n				\n				\n			\n				\n				\n				\n				\n				Become a member to attend special events free of charge\, and get Design Museum Magazine mailed twice a year.\nMembership starts at just $5/month.\n			\n				Join
URL:https://codesigncollaborative.org/event/field-trip-schoolhouse/
LOCATION:MA\, United States
CATEGORIES:Partner,Member,Design Impact Society
ATTACH;FMTTYPE=image/jpeg:https://codesigncollaborative.org/wp-content/uploads/2024/05/Schoolhouse1200x675.jpg
END:VEVENT
BEGIN:VEVENT
DTSTART;TZID=America/New_York:20240626T114500
DTEND;TZID=America/New_York:20240626T130000
DTSTAMP:20260419T105831
CREATED:20240612T212630Z
LAST-MODIFIED:20240614T143738Z
UID:31100-1719402300-1719406800@codesigncollaborative.org
SUMMARY:Embracing Failure in Design with the Fidelity Center for Applied Technology (FCAT)
DESCRIPTION:Embracing Failure in Design with theFidelity Center for Applied Technology (FCAT)\nJoin the Design Research Society and CoDesign Collaborative for a panel discussion on failure in design with speakers from FCAT.\n			\n			\n				\n				\n				\n				\n				\n				\n				\n				\n				\n				\n				\n				\n					            \n	\n	 \n				\n				\n				\n				\n				\n				\n				\n					             \nTickets\n \n            \n				\n			\n				\n				\n				\n				\n				\n				\n				\n					             \nLocation\n \n            \n				\n			 \n\n            \n				\n			\n			\n				\n				\n				\n				\n			\n				\n				\n				\n				\n				\n				\n				\n				\n				\n				\n				\n			\n				\n				\n				\n				\n				The Design Research Society is partnering with CoDesign Collaborative to host a panel discussion on the importance of failure in design\, featuring speakers from the Fidelity Center for Applied Technology (FCAT). Join us on Wednesday\, June 26\, from 11:45 am – 1:00 pm ET at the MFA Boston Remis Auditorium. \nPanelists will share their perspectives on failure as a catalyst for innovation and the importance of fostering a culture that encourages risk-taking as a valuable learning experience. Attendees will gain practical insights into building working cultures that thrive on the lessons learned from setbacks. Don’t miss this opportunity to explore a reframing of failure as an essential part of the design process. \nSpeakers include Josephine Holmboe\, former Creative Director at Fidelity Center for Applied Technology\, Will Reed\, Head of Design at Fidelity Center for Applied Technology\, Greg Smith\, VP in the Fidelity Center for Applied Technology and Head of The Founderie\, and moderator George White\, Director at Slalom. \nCoDesign Collaborative is proud to be a partner of the 2024 Design Research Society conference\, taking place in Boston from June 23rd-28th\, 2024 and hosted by the College of Arts\, Media\, and Design at Northeastern University. \nLocation:Remis Auditorium at the Museum of Fine Arts Boston is located on the first floor of the Linde Family Wing Entrance on the Museum’s west side. We recommend using the Linde Family Wing Entrance. This entrance and the entrance to the Remis Auditorium are accessible. The auditorium itself is equipped with an Assistive Listening System. \nNearby Restrooms:The nearest restrooms are located around the corner at the Linde Family Wing Entrance. \n \n			\n			\n				\n				\n				\n				\n				\n				\n				\n				\n				\n				Wednesday\, June 26\n11:45 am – 1 pm ET\nMuseum of Fine Arts BostonRemis Auditorium465 Huntington Avenue Boston\, MA 02115\n			\n				\n				\n				\n				\n				Registration required. \n			\n				Register to Attend\n			\n				\n				\n				\n				\n				Organized in partnership with \n			\n				\n				\n				\n				\n				\n			\n				\n				\n				\n				\n				\n			\n				\n				\n				\n				\n				Hosted by \n			\n				\n				\n				\n				\n				\n			\n			\n				\n				\n				\n				\n			\n				\n				\n				\n				\n				\n				\n				\n				\n				\n				\n				Speakers\n			\n			\n				\n				\n				\n				\n			\n				\n				\n				\n				\n				\n				\n				\n				\n				\n				\n				\n			\n				\n				\n				\n				\n				Josephine HolmboeFormer Creative Director\, FCAT \n			\n			\n				\n				\n				\n				\n				\n				\n				\n				\n				\n				\n			\n				\n				\n				\n				\n				Will ReedHead of Design\, FCAT \n			\n			\n				\n				\n				\n				\n				\n				\n				\n				\n				\n				\n			\n				\n				\n				\n				\n				Greg SmithVP\, FCAT & Head of The Founderie \n			\n			\n				\n				\n				\n				\n				\n				\n				\n				\n				\n				\n			\n				\n				\n				\n				\n				George WhiteDirector\, Slalom \n			\n			\n				\n				\n				\n				\n			\n				\n				\n			\n				\n				\n				\n				\n				\n				\n				\n				\n				\n				\n				\n				\n				\n			\n				\n				\n				\n				\n			\n				\n				\n			\n				\n				\n				\n				\n				\n				\n				\n				\n				\n				\n				\n				\n				\n				\n				\n				\n				\n				\n			\n				\n				\n				\n				\n				Become a member to attend special events free of charge\, and get Design Museum Magazine mailed twice a year.\nMembership starts at just $5/month.\n			\n				Join
URL:https://codesigncollaborative.org/event/failureindesign/
LOCATION:MA\, United States
CATEGORIES:Partner,Member,Design Impact Society
ATTACH;FMTTYPE=image/jpeg:https://codesigncollaborative.org/wp-content/uploads/2024/06/Failure_Horizontal.jpg
END:VEVENT
BEGIN:VEVENT
DTSTART;TZID=America/New_York:20240626T150000
DTEND;TZID=America/New_York:20240626T160000
DTSTAMP:20260419T105831
CREATED:20240612T202456Z
LAST-MODIFIED:20240613T182151Z
UID:31090-1719414000-1719417600@codesigncollaborative.org
SUMMARY:Field Trip: The 'Quin House (BOS)
DESCRIPTION:Field Trip: The ‘Quin House (BOS)\nJoin the CoDesign Collaborative community on June 26 for a Field Trip to the ‘Quin House in Boston. \n			\n			\n				\n				\n				\n				\n				\n				\n				\n				\n				\n				\n				\n				\n					            \n	\n	 \n				\n				\n				\n				\n				\n				\n				\n					             \nTickets\n \n            \n				\n			\n				\n				\n				\n				\n				\n				\n				\n					             \nLocation\n \n            \n				\n			 \n\n            \n				\n			\n			\n				\n				\n				\n				\n			\n				\n				\n				\n				\n				\n				\n				\n				\n				\n				\n				\n			\n				\n				\n				\n				\n				Join the CoDesign Collaborative community on Wednesday\, June 26\, from 3:00 – 4:00 pm ET for a Field Trip to  The ‘Quin House in Boston\, founded to convene Bostonians to share new ideas and foster new connections. \nOne of Back Bay’s most glamorous and historic buildings\, formerly known as the Algonquin Club\, originally constructed in 1888 by McKim Mead and White\, the storied building at 217 Commonwealth Ave has been reimagined by the Quin’s Creative Director\, world-renowned designer Ken Fulk. Fulk has transformed the space into a playground for the mind and the senses\, a retreat in the heart of the city\, a “home away from home”. \nField Trips are a benefit of membership in the Design Impact Society and Organizational Partnership. General Members (Individual+) and not-yet-Members are welcome to reserve tickets for $10/person. \n\n			\n			\n				\n				\n				\n				\n				\n				\n				\n				\n				\n				Wednesday\, June 26\n\n3:00 – 4:00 pm ET\nThe ‘Quin House\n 217 Commonwealth Avenue\,\nBoston\, MA 02116\n			\n				\n				\n				\n				\n				Registration required.\n			\n				Register to Attend\n			\n			\n				\n				\n				\n				\n			\n				\n				\n			\n				\n				\n				\n				\n				\n				\n				\n				\n				\n				\n				\n				\n				\n			\n				\n				\n				\n				\n			\n				\n				\n			\n				\n				\n				\n				\n				\n				\n				\n				\n				\n				\n				\n				\n				\n				\n				\n				\n				\n				\n			\n				\n				\n				\n				\n				Become a member to attend special events free of charge\, and get Design Museum Magazine mailed twice a year.\nMembership starts at just $5/month.\n			\n				Join
URL:https://codesigncollaborative.org/event/field-trip-quinhouse/
LOCATION:MA\, United States
CATEGORIES:Partner,Member,Design Impact Society
ATTACH;FMTTYPE=image/jpeg:https://codesigncollaborative.org/wp-content/uploads/2024/06/FT_BOS_BackBay-1.jpg
END:VEVENT
END:VCALENDAR