BEGIN:VCALENDAR
VERSION:2.0
PRODID:-//CoDesign Collaborative - ECPv6.6.4.2//NONSGML v1.0//EN
CALSCALE:GREGORIAN
METHOD:PUBLISH
X-WR-CALNAME:CoDesign Collaborative
X-ORIGINAL-URL:https://codesigncollaborative.org
X-WR-CALDESC:Events for CoDesign Collaborative
REFRESH-INTERVAL;VALUE=DURATION:PT1H
X-Robots-Tag:noindex
X-PUBLISHED-TTL:PT1H
BEGIN:VTIMEZONE
TZID:America/New_York
BEGIN:DAYLIGHT
TZOFFSETFROM:-0500
TZOFFSETTO:-0400
TZNAME:EDT
DTSTART:20260308T070000
END:DAYLIGHT
BEGIN:STANDARD
TZOFFSETFROM:-0400
TZOFFSETTO:-0500
TZNAME:EST
DTSTART:20261101T060000
END:STANDARD
END:VTIMEZONE
BEGIN:VEVENT
DTSTART;TZID=America/New_York:20260319T090000
DTEND;TZID=America/New_York:20260319T230000
DTSTAMP:20260419T090632
CREATED:20260224T181029Z
LAST-MODIFIED:20260310T165800Z
UID:33584-1773910800-1773961200@codesigncollaborative.org
SUMMARY:Field Trip: Fidelity Center for Applied Technology (BOS)
DESCRIPTION:Field Trip: Fidelity Center for Applied Technology (BOS)\nJoin the CoDesign Collaborative community for a visit to Fidelity Investments’ Center for Applied Technology (FCAT) in Boston.\n			\n			\n				\n				\n				\n				\n				\n			\n				\n				\n				\n				\n			\n				\n				\n				\n				\n				\n				\n				\n				\n				\n				\n				\n			\n				\n				\n				\n				\n				Join the CoDesign Collaborative Boston community on March 19\, at 9 am ET\, for a Field Trip to the Fidelity Center for Applied Technology (FCAT) and a conversation on Future Thinking in Design with Will Reed\, SVP\, Head of Design. \nFCAT is a global catalyst for breakthrough research and technology\, comprised of engineers\, designers\, and problem solvers dedicated to redefining the future of financial services and beyond. By analyzing societal shifts and testing emerging frontiers\, FCAT de-risks what’s next for millions of customers. The teams within these facilities conduct bold experiments to prepare for the changes that new technologies bring. \nLocated at the entrance to Boston’s Seaport Innovation District\, the Fidelity Center for Applied Technology provides a front-row seat to the development of new capabilities in quantum computing\, blockchain\, artificial intelligence\, and immersive experiences. This innovation hub is where diverse experts evaluate trends with a 3-5+ year horizon\, moving from speculative exploration to actionable products that scale at a global level. \nField Trips are a benefit of membership. Not-yet-Members register for $15. Student Members register for FREE on a limited\, first-come\, first-served basis. \n  \n \n			\n			\n				\n				\n				\n				\n				\n				\n				\n				\n				\n				Thursday\, March 19\, 2026\n9 – 11 am ET \nFidelity Center for Applied Technology (FCAT)245 Summer StBoston MA 02210\n			\n				\n				\n				\n				\n				Registration is required.\n			\n				Register Now\n			\n				\n				\n				\n				\n				Members & Partners will receive a promo code for registration. Email membership@codesigncollaborative.org with questions. \n			\n				\n				\n				\n				\n				Program Contributor\n			\n				\n				\n				\n				\n				\n			\n			\n				\n				\n				\n				\n			\n				\n				\n				\n				\n				\n				\n			\n				\n				\n				\n				\n			\n				\n				\n			\n				\n				\n				\n				\n				\n				\n				\n				\n				\n				\n				\n				\n				\n				\n				\n				\n				\n				\n			\n				\n				\n				\n				\n				Become a member to attend special events free of charge\, and get Unfold Magazine mailed twice a year.\nMembership starts at just $5/month.\n			\n				Join
URL:https://codesigncollaborative.org/event/fieldtrip-fcat/
CATEGORIES:Field Trip
ATTACH;FMTTYPE=image/jpeg:https://codesigncollaborative.org/wp-content/uploads/2026/02/671099_v2.jpg
END:VEVENT
END:VCALENDAR