BEGIN:VCALENDAR
VERSION:2.0
PRODID:-//CoDesign Collaborative - ECPv6.6.4.2//NONSGML v1.0//EN
CALSCALE:GREGORIAN
METHOD:PUBLISH
X-ORIGINAL-URL:https://codesigncollaborative.org
X-WR-CALDESC:Events for CoDesign Collaborative
REFRESH-INTERVAL;VALUE=DURATION:PT1H
X-Robots-Tag:noindex
X-PUBLISHED-TTL:PT1H
BEGIN:VTIMEZONE
TZID:America/Los_Angeles
BEGIN:DAYLIGHT
TZOFFSETFROM:-0800
TZOFFSETTO:-0700
TZNAME:PDT
DTSTART:20260308T100000
END:DAYLIGHT
BEGIN:STANDARD
TZOFFSETFROM:-0700
TZOFFSETTO:-0800
TZNAME:PST
DTSTART:20261101T090000
END:STANDARD
END:VTIMEZONE
BEGIN:VEVENT
DTSTART;VALUE=DATE:20260409
DTEND;VALUE=DATE:20260410
DTSTAMP:20260425T124344
CREATED:20260324T040055Z
LAST-MODIFIED:20260324T201250Z
UID:33695-1775692800-1775779199@codesigncollaborative.org
SUMMARY:Community Meetup: Third Space (PDX) - Collage Making
DESCRIPTION:Community Meetup: Third Space (PDX) – Collage Making\nConnect with others\, build relationships\, and collage! Supplies provided\, no artistic ability required.\n			\n			\n				\n				\n				\n				\n				\n			\n				\n				\n				\n				\n			\n				\n				\n				\n				\n				\n				\n				\n				\n				\n				\n				\n			\n				\n				\n				\n				\n				Join us on Thursday\, April 9\, from 6:30-8:30pm PT for a Third Space gathering at Hi-Top Tavern in Portland\, Oregon. As we continue to embrace analog making\, this month’s Third Space is all about collage-making. We’ll provide sample prompts to get you started and the necessary supplies. \nThis program is inspired by and in partnership with Shashank Khandewal and Blue Tiger\, who are hosting “Third Space” events. In sociology\, a “third space” refers to a social environment that is distinct from home (the first place) and work/school (the second place). It’s a place where individuals can connect with others\, build relationships\, and foster a sense of community. \nOur third spaces are physically and conceptually dwindling over time. We’re not giving ourselves enough permission to stop work\, leave the home\, and do something else. So\, let’s continue our reimagining of a third space: a place\, a time\, and an activity. Come for the activity\, stay for the conversation! \nAll are welcome! \n \n			\n			\n				\n				\n				\n				\n				\n				\n				\n				\n				\n				Thursday\, April 9\, 2026\nHi-Top Tavern5015 NE FremontPortland\, OR 97213\n6:30 – 8:30 pm PT\n			\n				\n				\n				\n				\n				FREE to Attend! \n			\n				Register Now\n			\n				\n				\n				\n				\n				\n			\n				\n				\n				\n				\n				Program Contributors \n			\n				\n				\n				\n				\n				\n			\n				\n				\n				\n				\n				Melissa CasburnVP\, Design at CoformaBoard Member\, CoDesign Collaborative \n			\n			\n				\n				\n				\n				\n			\n				\n				\n				\n				\n				\n				\n			\n				\n				\n				\n				\n			\n				\n				\n			\n				\n				\n				\n				\n				\n				\n				\n				\n				\n				\n				\n				\n				\n				\n				\n				\n				\n				\n			\n				\n				\n				\n				\n				Become a member to attend special events free of charge\, and get Unfold Magazine mailed twice a year.\nMembership starts at just $5/month.\n			\n				Join
URL:https://codesigncollaborative.org/event/third-space-collage-pdx/
CATEGORIES:Community Meetup
ATTACH;FMTTYPE=image/jpeg:https://codesigncollaborative.org/wp-content/uploads/2026/03/bekky-bekks-UdrftM-4IVI-unsplash.jpeg
END:VEVENT
END:VCALENDAR